Package: TileDBArray Version: 1.21.0 Command: /home/biocbuild/bbs-3.23-bioc/R/bin/R CMD INSTALL TileDBArray StartedAt: 2025-11-13 15:15:37 -0500 (Thu, 13 Nov 2025) EndedAt: 2025-11-13 15:15:57 -0500 (Thu, 13 Nov 2025) EllapsedTime: 20.7 seconds RetCode: 0 Status: OK