Package: TileDBArray Version: 1.21.0 Command: /Library/Frameworks/R.framework/Resources/bin/R CMD INSTALL TileDBArray StartedAt: 2025-11-13 15:08:09 -0500 (Thu, 13 Nov 2025) EndedAt: 2025-11-13 15:08:18 -0500 (Thu, 13 Nov 2025) EllapsedTime: 9.0 seconds RetCode: 0 Status: OK