Back to Build/check report for BioC 3.23:   simplified   long
ABCDEFGHIJKLMNOPQRS[T]UVWXYZ

This page was generated on 2025-11-13 11:32 -0500 (Thu, 13 Nov 2025).

HostnameOSArch (*)R versionInstalled pkgs
kjohnson3macOS 13.7.7 Venturaarm64R Under development (unstable) (2025-11-04 r88984) -- "Unsuffered Consequences" 4013
Click on any hostname to see more info about the system (e.g. compilers)      (*) as reported by 'uname -p', except on Windows and Mac OS X

All results for package TileDBArray


To the developers/maintainers of the TileDBArray package:
- Allow up to 24 hours (and sometimes 48 hours) for your latest push to git@git.bioconductor.org:packages/TileDBArray.git to reflect on this report. See Troubleshooting Build Report for more information.
- Use the following Renviron settings to reproduce errors and warnings.
- If 'R CMD check' started to fail recently on the Linux builder(s) over a missing dependency, add the missing dependency to 'Suggests:' in your DESCRIPTION file. See Renviron.bioc for more information.

raw results

Package 2186/2325HostnameOS / ArchINSTALLBUILDCHECKBUILD BIN
TileDBArray 1.21.0  (landing page)
Aaron Lun
Snapshot Date: 2025-11-12 13:40 -0500 (Wed, 12 Nov 2025)
git_url: https://git.bioconductor.org/packages/TileDBArray
git_branch: devel
git_last_commit: 4e1f73b
git_last_commit_date: 2025-10-29 11:02:23 -0500 (Wed, 29 Oct 2025)
kjohnson3macOS 13.7.7 Ventura / arm64  OK    OK    OK    OK  NO, package depends on 'SparseArray' which is only available as a source package that needs compilation



Results for Bioconductor software packages that depend directly on package TileDBArray

QUICK STATSOS / ArchINSTALLBUILDCHECKBUILD BIN
kjohnson3macOS 13.7.7 Ventura / arm64
001
001
0001
001
Package 1/1HostnameOS / ArchINSTALLBUILDCHECKBUILD BIN
beachmat.tiledb 1.3.0  (landing page)
Aaron Lun
git_last_commit: df0fa94
git_last_commit_date: 2025-10-29 11:33:24 -0500
kjohnson3macOS 13.7.7 Ventura / arm64  OK    OK    OK    OK  NO, package depends on 'beachmat' which is only available as a source package that needs compilation