Package: TargetSearch Version: 2.13.0 Command: /home/biocbuild/bbs-3.23-bioc/R/bin/R CMD INSTALL TargetSearch StartedAt: 2025-11-13 15:02:24 -0500 (Thu, 13 Nov 2025) EndedAt: 2025-11-13 15:02:36 -0500 (Thu, 13 Nov 2025) EllapsedTime: 11.8 seconds RetCode: 0 Status: OK