Package: TargetSearch Version: 2.13.0 Command: /Library/Frameworks/R.framework/Resources/bin/R CMD build --keep-empty-dirs --no-resave-data TargetSearch StartedAt: 2025-11-13 17:56:35 -0500 (Thu, 13 Nov 2025) EndedAt: 2025-11-13 17:56:55 -0500 (Thu, 13 Nov 2025) EllapsedTime: 20.3 seconds RetCode: 0 Status: OK PackageFile: TargetSearch_2.13.0.tar.gz PackageFileSize: 722.3 KiB