Package: TargetSearch Version: 2.13.0 Command: rm -rf TargetSearch.buildbin-libdir && mkdir TargetSearch.buildbin-libdir && /Users/biocbuild/BBS/utils/build-universal.sh TargetSearch_2.13.0.tar.gz /Library/Frameworks/R.framework/Resources/bin/R TargetSearch.buildbin-libdir StartedAt: 2025-11-13 23:59:20 -0500 (Thu, 13 Nov 2025) EndedAt: 2025-11-13 23:59:25 -0500 (Thu, 13 Nov 2025) EllapsedTime: 5.3 seconds RetCode: 0 Status: OK PackageFile: TargetSearch_2.13.0.tgz PackageFileSize: 1.251 MiB