Package: TargetScore Version: 1.49.0 Command: /home/biocbuild/bbs-3.23-bioc/R/bin/R CMD INSTALL TargetScore StartedAt: 2025-11-11 15:09:01 -0500 (Tue, 11 Nov 2025) EndedAt: 2025-11-11 15:09:10 -0500 (Tue, 11 Nov 2025) EllapsedTime: 8.7 seconds RetCode: 0 Status: OK