Package: TargetScore Version: 1.49.0 Command: /Library/Frameworks/R.framework/Resources/bin/R CMD INSTALL TargetScore StartedAt: 2025-11-14 15:03:31 -0500 (Fri, 14 Nov 2025) EndedAt: 2025-11-14 15:03:34 -0500 (Fri, 14 Nov 2025) EllapsedTime: 3.1 seconds RetCode: 0 Status: OK