Package: TargetScore Version: 1.49.0 Command: /Library/Frameworks/R.framework/Resources/bin/R CMD build --keep-empty-dirs --no-resave-data TargetScore StartedAt: 2025-11-14 17:53:39 -0500 (Fri, 14 Nov 2025) EndedAt: 2025-11-14 17:53:50 -0500 (Fri, 14 Nov 2025) EllapsedTime: 11.1 seconds RetCode: 0 Status: OK PackageFile: TargetScore_1.49.0.tar.gz PackageFileSize: 1.235 MiB