Package: TargetScore Version: 1.49.0 Maintainer: Yue Li MaintainerEmail: yueli at cs.toronto.edu git_url: https://git.bioconductor.org/packages/TargetScore git_branch: devel git_last_commit: 063ca5d git_last_commit_date: 2025-10-29 10:15:36 -0500 (Wed, 29 Oct 2025)