Package: TargetDecoy Version: 1.17.0 Command: /Library/Frameworks/R.framework/Resources/bin/R CMD INSTALL TargetDecoy StartedAt: 2025-11-14 15:10:45 -0500 (Fri, 14 Nov 2025) EndedAt: 2025-11-14 15:10:51 -0500 (Fri, 14 Nov 2025) EllapsedTime: 5.6 seconds RetCode: 0 Status: OK