Package: TargetDecoy Version: 1.17.0 Command: /Library/Frameworks/R.framework/Resources/bin/R CMD build --keep-empty-dirs --no-resave-data TargetDecoy StartedAt: 2025-11-14 17:53:37 -0500 (Fri, 14 Nov 2025) EndedAt: 2025-11-14 17:53:56 -0500 (Fri, 14 Nov 2025) EllapsedTime: 19.2 seconds RetCode: 0 Status: OK PackageFile: TargetDecoy_1.17.0.tar.gz PackageFileSize: 4.165 MiB