Package: TargetDecoy Version: 1.17.0 Command: rm -rf TargetDecoy.buildbin-libdir && mkdir TargetDecoy.buildbin-libdir && /Users/biocbuild/BBS/utils/build-universal.sh TargetDecoy_1.17.0.tar.gz /Library/Frameworks/R.framework/Resources/bin/R TargetDecoy.buildbin-libdir StartedAt: 2025-11-13 23:59:19 -0500 (Thu, 13 Nov 2025) EndedAt: 2025-11-13 23:59:24 -0500 (Thu, 13 Nov 2025) EllapsedTime: 5.1 seconds RetCode: 0 Status: OK PackageFile: TargetDecoy_1.17.0.tgz PackageFileSize: 3.881 MiB