Package: TargetDecoy Version: 1.17.0 Maintainer: Elke Debrie MaintainerEmail: elkedebrie at gmail.com git_url: https://git.bioconductor.org/packages/TargetDecoy git_branch: devel git_last_commit: ab5d4fd git_last_commit_date: 2025-10-29 11:13:35 -0500 (Wed, 29 Oct 2025)