Package: TTMap Version: 1.33.0 Command: /home/biocbuild/bbs-3.23-bioc/R/bin/R CMD INSTALL TTMap StartedAt: 2025-11-13 15:22:58 -0500 (Thu, 13 Nov 2025) EndedAt: 2025-11-13 15:23:21 -0500 (Thu, 13 Nov 2025) EllapsedTime: 22.2 seconds RetCode: 0 Status: OK