Package: TTMap Version: 1.33.0 Command: /Library/Frameworks/R.framework/Resources/bin/R CMD INSTALL TTMap StartedAt: 2025-11-12 15:26:59 -0500 (Wed, 12 Nov 2025) EndedAt: 2025-11-12 15:27:09 -0500 (Wed, 12 Nov 2025) EllapsedTime: 9.5 seconds RetCode: 0 Status: OK