Package: TTMap Version: 1.33.0 Command: /Library/Frameworks/R.framework/Resources/bin/R CMD build --keep-empty-dirs --no-resave-data TTMap StartedAt: 2025-11-13 18:03:18 -0500 (Thu, 13 Nov 2025) EndedAt: 2025-11-13 18:03:42 -0500 (Thu, 13 Nov 2025) EllapsedTime: 23.3 seconds RetCode: 0 Status: OK PackageFile: TTMap_1.33.0.tar.gz PackageFileSize: 1.61 MiB