Package: TTMap Version: 1.33.0 Command: rm -rf TTMap.buildbin-libdir && mkdir TTMap.buildbin-libdir && /Users/biocbuild/BBS/utils/build-universal.sh TTMap_1.33.0.tar.gz /Library/Frameworks/R.framework/Resources/bin/R TTMap.buildbin-libdir StartedAt: 2025-11-14 00:00:36 -0500 (Fri, 14 Nov 2025) EndedAt: 2025-11-14 00:00:47 -0500 (Fri, 14 Nov 2025) EllapsedTime: 11.4 seconds RetCode: 0 Status: OK PackageFile: TTMap_1.33.0.tgz PackageFileSize: 1.392 MiB