Package: TTMap Version: 1.33.0 Maintainer: Rachel Jeitziner MaintainerEmail: rachel.jeitziner at epfl.ch git_url: https://git.bioconductor.org/packages/TTMap git_branch: devel git_last_commit: a4bf3ca git_last_commit_date: 2025-10-29 10:43:09 -0500 (Wed, 29 Oct 2025)