Package: TSCAN Version: 1.49.0 Command: /Library/Frameworks/R.framework/Resources/bin/R CMD INSTALL TSCAN StartedAt: 2025-11-14 15:20:21 -0500 (Fri, 14 Nov 2025) EndedAt: 2025-11-14 15:20:33 -0500 (Fri, 14 Nov 2025) EllapsedTime: 11.1 seconds RetCode: 0 Status: OK