Package: TSCAN Version: 1.49.0 Command: /Library/Frameworks/R.framework/Resources/bin/R CMD build --keep-empty-dirs --no-resave-data TSCAN StartedAt: 2025-11-14 18:00:20 -0500 (Fri, 14 Nov 2025) EndedAt: 2025-11-14 18:00:42 -0500 (Fri, 14 Nov 2025) EllapsedTime: 21.2 seconds RetCode: 0 Status: OK PackageFile: TSCAN_1.49.0.tar.gz PackageFileSize: 2.679 MiB