Package: TSCAN Version: 1.49.0 Command: rm -rf TSCAN.buildbin-libdir && mkdir TSCAN.buildbin-libdir && /Users/biocbuild/BBS/utils/build-universal.sh TSCAN_1.49.0.tar.gz /Library/Frameworks/R.framework/Resources/bin/R TSCAN.buildbin-libdir StartedAt: 2025-11-14 23:55:51 -0500 (Fri, 14 Nov 2025) EndedAt: 2025-11-14 23:56:04 -0500 (Fri, 14 Nov 2025) EllapsedTime: 13.4 seconds RetCode: 0 Status: OK PackageFile: TSCAN_1.49.0.tgz PackageFileSize: 2.765 MiB