Package: TSCAN Version: 1.49.0 Maintainer: Zhicheng Ji MaintainerEmail: zji4 at jhu.edu git_url: https://git.bioconductor.org/packages/TSCAN git_branch: devel git_last_commit: 19fa1c7 git_last_commit_date: 2025-10-29 10:21:25 -0500 (Wed, 29 Oct 2025)