Package: TRESS Version: 1.17.0 Command: /home/biocbuild/bbs-3.23-bioc/R/bin/R CMD INSTALL TRESS StartedAt: 2025-11-11 15:43:26 -0500 (Tue, 11 Nov 2025) EndedAt: 2025-11-11 15:44:02 -0500 (Tue, 11 Nov 2025) EllapsedTime: 35.4 seconds RetCode: 0 Status: OK