Package: TRESS Version: 1.17.0 Command: /Library/Frameworks/R.framework/Resources/bin/R CMD INSTALL TRESS StartedAt: 2025-11-12 15:37:57 -0500 (Wed, 12 Nov 2025) EndedAt: 2025-11-12 15:38:11 -0500 (Wed, 12 Nov 2025) EllapsedTime: 14.4 seconds RetCode: 0 Status: OK