Package: TRESS Version: 1.17.0 Command: /Library/Frameworks/R.framework/Resources/bin/R CMD build --keep-empty-dirs --no-resave-data TRESS StartedAt: 2025-11-12 17:25:12 -0500 (Wed, 12 Nov 2025) EndedAt: 2025-11-12 17:25:13 -0500 (Wed, 12 Nov 2025) EllapsedTime: 1.0 seconds RetCode: 0 Status: OK PackageFile: TRESS_1.17.0.tar.gz PackageFileSize: 483.8 KiB