Package: TRESS Version: 1.17.0 Command: rm -rf TRESS.buildbin-libdir && mkdir TRESS.buildbin-libdir && /Users/biocbuild/BBS/utils/build-universal.sh TRESS_1.17.0.tar.gz /Library/Frameworks/R.framework/Resources/bin/R TRESS.buildbin-libdir StartedAt: 2025-11-12 21:13:14 -0500 (Wed, 12 Nov 2025) EndedAt: 2025-11-12 21:13:31 -0500 (Wed, 12 Nov 2025) EllapsedTime: 17.4 seconds RetCode: 0 Status: OK PackageFile: TRESS_1.17.0.tgz PackageFileSize: 688.4 KiB