Package: TRESS Version: 1.17.0 Maintainer: Zhenxing Guo MaintainerEmail: guozhenxing at cuhk.edu.cn git_url: https://git.bioconductor.org/packages/TRESS git_branch: devel git_last_commit: 36f1f10 git_last_commit_date: 2025-10-29 11:12:49 -0500 (Wed, 29 Oct 2025)