Package: TREG Version: 1.15.0 Command: /Library/Frameworks/R.framework/Resources/bin/R CMD build --keep-empty-dirs --no-resave-data TREG StartedAt: 2025-11-13 18:02:22 -0500 (Thu, 13 Nov 2025) EndedAt: 2025-11-13 18:03:13 -0500 (Thu, 13 Nov 2025) EllapsedTime: 51.6 seconds RetCode: 0 Status: OK PackageFile: TREG_1.15.0.tar.gz PackageFileSize: 2.644 MiB