Package: TREG Version: 1.15.0 Command: rm -rf TREG.buildbin-libdir && mkdir TREG.buildbin-libdir && /Users/biocbuild/BBS/utils/build-universal.sh TREG_1.15.0.tar.gz /Library/Frameworks/R.framework/Resources/bin/R TREG.buildbin-libdir StartedAt: 2025-11-14 00:00:22 -0500 (Fri, 14 Nov 2025) EndedAt: 2025-11-14 00:00:33 -0500 (Fri, 14 Nov 2025) EllapsedTime: 11.2 seconds RetCode: 0 Status: OK PackageFile: TREG_1.15.0.tgz PackageFileSize: 2.661 MiB