Package: TREG Version: 1.15.0 Maintainer: Louise Huuki-Myers MaintainerEmail: lahuuki at gmail.com git_url: https://git.bioconductor.org/packages/TREG git_branch: devel git_last_commit: 8886db1 git_last_commit_date: 2025-10-29 11:15:26 -0500 (Wed, 29 Oct 2025)