Package: TPP2D Version: 1.27.0 Command: /home/biocbuild/bbs-3.23-bioc/R/bin/R CMD INSTALL TPP2D StartedAt: 2025-11-14 15:10:07 -0500 (Fri, 14 Nov 2025) EndedAt: 2025-11-14 15:10:14 -0500 (Fri, 14 Nov 2025) EllapsedTime: 7.8 seconds RetCode: 0 Status: OK