Package: TPP2D Version: 1.27.0 Command: /home/biocbuild/bbs-3.23-bioc/R/bin/R CMD build --keep-empty-dirs --no-resave-data TPP2D StartedAt: 2025-11-13 20:33:26 -0500 (Thu, 13 Nov 2025) EndedAt: 2025-11-13 20:33:59 -0500 (Thu, 13 Nov 2025) EllapsedTime: 33.1 seconds RetCode: 0 Status: OK PackageFile: TPP2D_1.27.0.tar.gz PackageFileSize: 2.298 MiB