Package: TPP2D Version: 1.27.0 Command: /Library/Frameworks/R.framework/Resources/bin/R CMD INSTALL TPP2D StartedAt: 2025-11-13 15:05:17 -0500 (Thu, 13 Nov 2025) EndedAt: 2025-11-13 15:05:21 -0500 (Thu, 13 Nov 2025) EllapsedTime: 3.5 seconds RetCode: 0 Status: OK