Package: TPP2D Version: 1.27.0 Command: /Library/Frameworks/R.framework/Resources/bin/R CMD build --keep-empty-dirs --no-resave-data TPP2D StartedAt: 2025-11-13 18:00:49 -0500 (Thu, 13 Nov 2025) EndedAt: 2025-11-13 18:01:04 -0500 (Thu, 13 Nov 2025) EllapsedTime: 15.2 seconds RetCode: 0 Status: OK PackageFile: TPP2D_1.27.0.tar.gz PackageFileSize: 2.301 MiB