Package: TPP2D Version: 1.27.0 Command: rm -rf TPP2D.buildbin-libdir && mkdir TPP2D.buildbin-libdir && /Users/biocbuild/BBS/utils/build-universal.sh TPP2D_1.27.0.tar.gz /Library/Frameworks/R.framework/Resources/bin/R TPP2D.buildbin-libdir StartedAt: 2025-11-14 00:00:06 -0500 (Fri, 14 Nov 2025) EndedAt: 2025-11-14 00:00:11 -0500 (Fri, 14 Nov 2025) EllapsedTime: 5.1 seconds RetCode: 0 Status: OK PackageFile: TPP2D_1.27.0.tgz PackageFileSize: 1.895 MiB