Package: TOP Version: 1.11.0 Command: /Library/Frameworks/R.framework/Resources/bin/R CMD INSTALL TOP StartedAt: 2025-11-14 15:14:01 -0500 (Fri, 14 Nov 2025) EndedAt: 2025-11-14 15:14:14 -0500 (Fri, 14 Nov 2025) EllapsedTime: 12.9 seconds RetCode: 0 Status: OK