Package: TOP Version: 1.11.0 Command: /Library/Frameworks/R.framework/Resources/bin/R CMD build --keep-empty-dirs --no-resave-data TOP StartedAt: 2025-11-13 18:00:11 -0500 (Thu, 13 Nov 2025) EndedAt: 2025-11-13 18:00:49 -0500 (Thu, 13 Nov 2025) EllapsedTime: 37.4 seconds RetCode: 0 Status: OK PackageFile: TOP_1.11.0.tar.gz PackageFileSize: 488.3 KiB