Package: TOP Version: 1.11.0 Command: rm -rf TOP.buildbin-libdir && mkdir TOP.buildbin-libdir && /Users/biocbuild/BBS/utils/build-universal.sh TOP_1.11.0.tar.gz /Library/Frameworks/R.framework/Resources/bin/R TOP.buildbin-libdir StartedAt: 2025-11-14 23:55:18 -0500 (Fri, 14 Nov 2025) EndedAt: 2025-11-14 23:55:34 -0500 (Fri, 14 Nov 2025) EllapsedTime: 16.4 seconds RetCode: 0 Status: OK PackageFile: TOP_1.11.0.tgz PackageFileSize: 543.7 KiB