Package: TOP Version: 1.11.0 Maintainer: Harry Robertson MaintainerEmail: harry.robertson at sydney.edu.au git_url: https://git.bioconductor.org/packages/TOP git_branch: devel git_last_commit: 30abd4f git_last_commit_date: 2025-10-29 11:23:14 -0500 (Wed, 29 Oct 2025)