Package: TOAST Version: 1.25.0 Command: /Library/Frameworks/R.framework/Resources/bin/R CMD build --keep-empty-dirs --no-resave-data TOAST StartedAt: 2025-11-13 17:59:53 -0500 (Thu, 13 Nov 2025) EndedAt: 2025-11-13 18:01:07 -0500 (Thu, 13 Nov 2025) EllapsedTime: 73.8 seconds RetCode: 0 Status: OK PackageFile: TOAST_1.25.0.tar.gz PackageFileSize: 3.625 MiB