Package: TOAST Version: 1.25.0 Command: rm -rf TOAST.buildbin-libdir && mkdir TOAST.buildbin-libdir && /Users/biocbuild/BBS/utils/build-universal.sh TOAST_1.25.0.tar.gz /Library/Frameworks/R.framework/Resources/bin/R TOAST.buildbin-libdir StartedAt: 2025-11-14 00:00:00 -0500 (Fri, 14 Nov 2025) EndedAt: 2025-11-14 00:00:14 -0500 (Fri, 14 Nov 2025) EllapsedTime: 13.3 seconds RetCode: 0 Status: OK PackageFile: TOAST_1.25.0.tgz PackageFileSize: 3.767 MiB