Back to Build/check report for BioC 3.23:   simplified   long
ABCDEFGHIJKLMNOPQRS[T]UVWXYZ

This page was generated on 2025-11-13 11:32 -0500 (Thu, 13 Nov 2025).

HostnameOSArch (*)R versionInstalled pkgs
kjohnson3macOS 13.7.7 Venturaarm64R Under development (unstable) (2025-11-04 r88984) -- "Unsuffered Consequences" 4013
Click on any hostname to see more info about the system (e.g. compilers)      (*) as reported by 'uname -p', except on Windows and Mac OS X

All results for package TOAST


To the developers/maintainers of the TOAST package:
- Allow up to 24 hours (and sometimes 48 hours) for your latest push to git@git.bioconductor.org:packages/TOAST.git to reflect on this report. See Troubleshooting Build Report for more information.
- Use the following Renviron settings to reproduce errors and warnings.
- If 'R CMD check' started to fail recently on the Linux builder(s) over a missing dependency, add the missing dependency to 'Suggests:' in your DESCRIPTION file. See Renviron.bioc for more information.

raw results

Package 2198/2325HostnameOS / ArchINSTALLBUILDCHECKBUILD BIN
TOAST 1.25.0  (landing page)
Ziyi Li
Snapshot Date: 2025-11-12 13:40 -0500 (Wed, 12 Nov 2025)
git_url: https://git.bioconductor.org/packages/TOAST
git_branch: devel
git_last_commit: dab62cf
git_last_commit_date: 2025-10-29 10:52:46 -0500 (Wed, 29 Oct 2025)
kjohnson3macOS 13.7.7 Ventura / arm64  OK    OK    OK    OK  YES



Results for Bioconductor software packages that depend directly on package TOAST

QUICK STATSOS / ArchINSTALLBUILDCHECKBUILD BIN
kjohnson3macOS 13.7.7 Ventura / arm64
021
021
0001
001
Package 1/3HostnameOS / ArchINSTALLBUILDCHECKBUILD BIN
cypress 1.7.0  (landing page)
Shilin Yu
git_last_commit: 40f21f4
git_last_commit_date: 2025-10-29 11:29:05 -0500
kjohnson3macOS 13.7.7 Ventura / arm64  ERROR    ERROR  skippedskipped
Package 2/3HostnameOS / ArchINSTALLBUILDCHECKBUILD BIN
MICSQTL 1.9.0  (landing page)
Qian Li
git_last_commit: b9763ce
git_last_commit_date: 2025-10-29 11:24:12 -0500
kjohnson3macOS 13.7.7 Ventura / arm64  OK    OK    OK    OK  YES
Package 3/3HostnameOS / ArchINSTALLBUILDCHECKBUILD BIN
RegionalST 1.9.0  (landing page)
Ziyi Li
git_last_commit: e3a23f6
git_last_commit_date: 2025-10-29 11:24:31 -0500
kjohnson3macOS 13.7.7 Ventura / arm64  ERROR    ERROR  skippedskipped