Package: TMSig Version: 1.5.0 Command: /Library/Frameworks/R.framework/Resources/bin/R CMD INSTALL TMSig StartedAt: 2025-11-13 15:09:31 -0500 (Thu, 13 Nov 2025) EndedAt: 2025-11-13 15:09:40 -0500 (Thu, 13 Nov 2025) EllapsedTime: 8.7 seconds RetCode: 0 Status: OK