Package: TMSig Version: 1.5.0 Command: /Library/Frameworks/R.framework/Resources/bin/R CMD build --keep-empty-dirs --no-resave-data TMSig StartedAt: 2025-11-13 17:59:51 -0500 (Thu, 13 Nov 2025) EndedAt: 2025-11-13 18:00:13 -0500 (Thu, 13 Nov 2025) EllapsedTime: 22.3 seconds RetCode: 0 Status: OK PackageFile: TMSig_1.5.0.tar.gz PackageFileSize: 3.43 MiB