Package: TMSig Version: 1.5.0 Command: rm -rf TMSig.buildbin-libdir && mkdir TMSig.buildbin-libdir && /Users/biocbuild/BBS/utils/build-universal.sh TMSig_1.5.0.tar.gz /Library/Frameworks/R.framework/Resources/bin/R TMSig.buildbin-libdir StartedAt: 2025-11-13 23:59:59 -0500 (Thu, 13 Nov 2025) EndedAt: 2025-11-14 00:00:09 -0500 (Fri, 14 Nov 2025) EllapsedTime: 10.2 seconds RetCode: 0 Status: OK PackageFile: TMSig_1.5.0.tgz PackageFileSize: 3.471 MiB