Package: TFutils Version: 1.31.0 Command: /Library/Frameworks/R.framework/Resources/bin/R CMD build --keep-empty-dirs --no-resave-data TFutils StartedAt: 2025-11-12 17:22:42 -0500 (Wed, 12 Nov 2025) EndedAt: 2025-11-12 17:23:51 -0500 (Wed, 12 Nov 2025) EllapsedTime: 68.9 seconds RetCode: 0 Status: OK PackageFile: TFutils_1.31.0.tar.gz PackageFileSize: 6.014 MiB