Package: TFutils Version: 1.31.0 Maintainer: Vincent Carey MaintainerEmail: stvjc at channing.harvard.edu git_url: https://git.bioconductor.org/packages/TFutils git_branch: devel git_last_commit: 775ebfc git_last_commit_date: 2025-10-29 10:44:40 -0500 (Wed, 29 Oct 2025)