Package: TFEA.ChIP Version: 1.31.0 Command: /home/biocbuild/bbs-3.23-bioc/R/bin/R CMD INSTALL TFEA.ChIP StartedAt: 2025-11-13 15:41:17 -0500 (Thu, 13 Nov 2025) EndedAt: 2025-11-13 15:42:23 -0500 (Thu, 13 Nov 2025) EllapsedTime: 65.8 seconds RetCode: 0 Status: OK