Package: TFEA.ChIP Version: 1.31.0 Command: /home/biocbuild/bbs-3.23-bioc/R/bin/R CMD build --keep-empty-dirs --no-resave-data TFEA.ChIP StartedAt: 2025-11-13 20:29:17 -0500 (Thu, 13 Nov 2025) EndedAt: 2025-11-13 20:30:50 -0500 (Thu, 13 Nov 2025) EllapsedTime: 93.1 seconds RetCode: 0 Status: OK PackageFile: TFEA.ChIP_1.31.0.tar.gz PackageFileSize: 6.772 MiB